BEGIN:VCALENDAR
VERSION:2.0
PRODID:-//SBV Zuidlaren - ECPv6.15.17.1//NONSGML v1.0//EN
CALSCALE:GREGORIAN
METHOD:PUBLISH
X-ORIGINAL-URL:https://www.seniorenbiljart-zuidlaren.nl
X-WR-CALDESC:Evenementen voor SBV Zuidlaren
REFRESH-INTERVAL;VALUE=DURATION:PT1H
X-Robots-Tag:noindex
X-PUBLISHED-TTL:PT1H
BEGIN:VTIMEZONE
TZID:Europe/Amsterdam
BEGIN:DAYLIGHT
TZOFFSETFROM:+0100
TZOFFSETTO:+0200
TZNAME:CEST
DTSTART:20250330T010000
END:DAYLIGHT
BEGIN:STANDARD
TZOFFSETFROM:+0200
TZOFFSETTO:+0100
TZNAME:CET
DTSTART:20251026T010000
END:STANDARD
BEGIN:DAYLIGHT
TZOFFSETFROM:+0100
TZOFFSETTO:+0200
TZNAME:CEST
DTSTART:20260329T010000
END:DAYLIGHT
BEGIN:STANDARD
TZOFFSETFROM:+0200
TZOFFSETTO:+0100
TZNAME:CET
DTSTART:20261025T010000
END:STANDARD
BEGIN:DAYLIGHT
TZOFFSETFROM:+0100
TZOFFSETTO:+0200
TZNAME:CEST
DTSTART:20270328T010000
END:DAYLIGHT
BEGIN:STANDARD
TZOFFSETFROM:+0200
TZOFFSETTO:+0100
TZNAME:CET
DTSTART:20271031T010000
END:STANDARD
END:VTIMEZONE
BEGIN:VEVENT
DTSTART;TZID=Europe/Amsterdam:20260326T130000
DTEND;TZID=Europe/Amsterdam:20260326T130000
DTSTAMP:20260420T145623
CREATED:20250720T075806Z
LAST-MODIFIED:20250720T075806Z
UID:6632-1774530000-1774530000@www.seniorenbiljart-zuidlaren.nl
SUMMARY:Pier HiemstraBardienst
DESCRIPTION:
URL:https://www.seniorenbiljart-zuidlaren.nl/agenda/pier-hiemstrabardienst-4/
LOCATION:De Bark\, Veenplasweg 3A\, Zuidlaren\, Drenthe\, 9471 RA\, Netherlands
CATEGORIES:Bardienst
END:VEVENT
BEGIN:VEVENT
DTSTART;TZID=Europe/Amsterdam:20260325T130000
DTEND;TZID=Europe/Amsterdam:20260325T130000
DTSTAMP:20260420T145623
CREATED:20250720T075806Z
LAST-MODIFIED:20250720T075806Z
UID:6631-1774443600-1774443600@www.seniorenbiljart-zuidlaren.nl
SUMMARY:Annie HadderinghBardienst
DESCRIPTION:
URL:https://www.seniorenbiljart-zuidlaren.nl/agenda/annie-hadderinghbardienst-4/
LOCATION:De Bark\, Veenplasweg 3A\, Zuidlaren\, Drenthe\, 9471 RA\, Netherlands
CATEGORIES:Bardienst
END:VEVENT
BEGIN:VEVENT
DTSTART;TZID=Europe/Amsterdam:20260323T130000
DTEND;TZID=Europe/Amsterdam:20260323T130000
DTSTAMP:20260420T145623
CREATED:20250720T075806Z
LAST-MODIFIED:20250720T075806Z
UID:6630-1774270800-1774270800@www.seniorenbiljart-zuidlaren.nl
SUMMARY:Tjeerd OldenburgerBardienst
DESCRIPTION:
URL:https://www.seniorenbiljart-zuidlaren.nl/agenda/tjeerd-oldenburgerbardienst-30/
LOCATION:De Bark\, Veenplasweg 3A\, Zuidlaren\, Drenthe\, 9471 RA\, Netherlands
CATEGORIES:Bardienst
END:VEVENT
BEGIN:VEVENT
DTSTART;TZID=Europe/Amsterdam:20260319T130000
DTEND;TZID=Europe/Amsterdam:20260319T130000
DTSTAMP:20260420T145623
CREATED:20250720T075806Z
LAST-MODIFIED:20260316T090128Z
UID:6629-1773925200-1773925200@www.seniorenbiljart-zuidlaren.nl
SUMMARY:Ger OlthofBardienst
DESCRIPTION:
URL:https://www.seniorenbiljart-zuidlaren.nl/agenda/ed-wijnenbardienst-3/
LOCATION:De Bark\, Veenplasweg 3A\, Zuidlaren\, Drenthe\, 9471 RA\, Netherlands
CATEGORIES:Bardienst
END:VEVENT
BEGIN:VEVENT
DTSTART;TZID=Europe/Amsterdam:20260318T130000
DTEND;TZID=Europe/Amsterdam:20260318T130000
DTSTAMP:20260420T145623
CREATED:20250720T075806Z
LAST-MODIFIED:20250720T075806Z
UID:6628-1773838800-1773838800@www.seniorenbiljart-zuidlaren.nl
SUMMARY:Reinder de BieBardienst
DESCRIPTION:
URL:https://www.seniorenbiljart-zuidlaren.nl/agenda/reinder-de-biebardienst-4/
LOCATION:De Bark\, Veenplasweg 3A\, Zuidlaren\, Drenthe\, 9471 RA\, Netherlands
CATEGORIES:Bardienst
END:VEVENT
BEGIN:VEVENT
DTSTART;TZID=Europe/Amsterdam:20260316T130000
DTEND;TZID=Europe/Amsterdam:20260316T130000
DTSTAMP:20260420T145623
CREATED:20250720T075751Z
LAST-MODIFIED:20250720T075751Z
UID:6627-1773666000-1773666000@www.seniorenbiljart-zuidlaren.nl
SUMMARY:Tjeerd OldenburgerBardienst
DESCRIPTION:
URL:https://www.seniorenbiljart-zuidlaren.nl/agenda/tjeerd-oldenburgerbardienst-29/
LOCATION:De Bark\, Veenplasweg 3A\, Zuidlaren\, Drenthe\, 9471 RA\, Netherlands
CATEGORIES:Bardienst
END:VEVENT
BEGIN:VEVENT
DTSTART;TZID=Europe/Amsterdam:20260312T130000
DTEND;TZID=Europe/Amsterdam:20260312T130000
DTSTAMP:20260420T145623
CREATED:20250720T075751Z
LAST-MODIFIED:20250720T075751Z
UID:6626-1773320400-1773320400@www.seniorenbiljart-zuidlaren.nl
SUMMARY:Jur HulseboschBardienst
DESCRIPTION:
URL:https://www.seniorenbiljart-zuidlaren.nl/agenda/jur-hulseboschbardienst-3/
LOCATION:De Bark\, Veenplasweg 3A\, Zuidlaren\, Drenthe\, 9471 RA\, Netherlands
CATEGORIES:Bardienst
END:VEVENT
BEGIN:VEVENT
DTSTART;TZID=Europe/Amsterdam:20260311T130000
DTEND;TZID=Europe/Amsterdam:20260311T170000
DTSTAMP:20260420T145623
CREATED:20251211T103313Z
LAST-MODIFIED:20251211T103313Z
UID:6980-1773234000-1773248400@www.seniorenbiljart-zuidlaren.nl
SUMMARY:Kees Voorbij ipv Chris Gils
DESCRIPTION:
URL:https://www.seniorenbiljart-zuidlaren.nl/agenda/kees-voorbij-ipv-chris-gils/
LOCATION:Drenthe
CATEGORIES:Bardienst
END:VEVENT
BEGIN:VEVENT
DTSTART;TZID=Europe/Amsterdam:20260311T130000
DTEND;TZID=Europe/Amsterdam:20260311T130000
DTSTAMP:20260420T145623
CREATED:20250720T075751Z
LAST-MODIFIED:20260104T142152Z
UID:6625-1773234000-1773234000@www.seniorenbiljart-zuidlaren.nl
SUMMARY:Kees VoorbijBardienst
DESCRIPTION:
URL:https://www.seniorenbiljart-zuidlaren.nl/agenda/chris-gilsbardienst-3/
LOCATION:De Bark\, Veenplasweg 3A\, Zuidlaren\, Drenthe\, 9471 RA\, Netherlands
CATEGORIES:Bardienst
END:VEVENT
BEGIN:VEVENT
DTSTART;TZID=Europe/Amsterdam:20260309T140000
DTEND;TZID=Europe/Amsterdam:20260309T153000
DTSTAMP:20260420T145623
CREATED:20250721T082316Z
LAST-MODIFIED:20251228T113633Z
UID:6708-1773064800-1773070200@www.seniorenbiljart-zuidlaren.nl
SUMMARY:Ledenvergadering
DESCRIPTION:
URL:https://www.seniorenbiljart-zuidlaren.nl/agenda/ledenvergadering/
LOCATION:Drenthe
CATEGORIES:3Banden,Bandstoten,Bardienst,DBGD,Libre,Toernooi
END:VEVENT
BEGIN:VEVENT
DTSTART;TZID=Europe/Amsterdam:20260309T130000
DTEND;TZID=Europe/Amsterdam:20260309T130000
DTSTAMP:20260420T145623
CREATED:20250720T075751Z
LAST-MODIFIED:20250720T075751Z
UID:6624-1773061200-1773061200@www.seniorenbiljart-zuidlaren.nl
SUMMARY:Tjeerd OldenburgerBardienst
DESCRIPTION:
URL:https://www.seniorenbiljart-zuidlaren.nl/agenda/tjeerd-oldenburgerbardienst-28/
LOCATION:De Bark\, Veenplasweg 3A\, Zuidlaren\, Drenthe\, 9471 RA\, Netherlands
CATEGORIES:Bardienst
END:VEVENT
BEGIN:VEVENT
DTSTART;TZID=Europe/Amsterdam:20260305T130000
DTEND;TZID=Europe/Amsterdam:20260305T130000
DTSTAMP:20260420T145623
CREATED:20250720T075751Z
LAST-MODIFIED:20250720T075751Z
UID:6623-1772715600-1772715600@www.seniorenbiljart-zuidlaren.nl
SUMMARY:Willem van LeeuwenBardienst
DESCRIPTION:
URL:https://www.seniorenbiljart-zuidlaren.nl/agenda/willem-van-leeuwenbardienst-3/
LOCATION:De Bark\, Veenplasweg 3A\, Zuidlaren\, Drenthe\, 9471 RA\, Netherlands
CATEGORIES:Bardienst
END:VEVENT
BEGIN:VEVENT
DTSTART;TZID=Europe/Amsterdam:20260304T130000
DTEND;TZID=Europe/Amsterdam:20260304T130000
DTSTAMP:20260420T145623
CREATED:20250720T075736Z
LAST-MODIFIED:20250720T075736Z
UID:6622-1772629200-1772629200@www.seniorenbiljart-zuidlaren.nl
SUMMARY:Joop van der MolenBardienst
DESCRIPTION:
URL:https://www.seniorenbiljart-zuidlaren.nl/agenda/joop-van-der-molenbardienst-3/
LOCATION:De Bark\, Veenplasweg 3A\, Zuidlaren\, Drenthe\, 9471 RA\, Netherlands
CATEGORIES:Bardienst
END:VEVENT
BEGIN:VEVENT
DTSTART;TZID=Europe/Amsterdam:20260302T130000
DTEND;TZID=Europe/Amsterdam:20260302T130000
DTSTAMP:20260420T145623
CREATED:20250720T075736Z
LAST-MODIFIED:20250720T075736Z
UID:6621-1772456400-1772456400@www.seniorenbiljart-zuidlaren.nl
SUMMARY:Tjeerd OldenburgerBardienst
DESCRIPTION:
URL:https://www.seniorenbiljart-zuidlaren.nl/agenda/tjeerd-oldenburgerbardienst-27/
LOCATION:De Bark\, Veenplasweg 3A\, Zuidlaren\, Drenthe\, 9471 RA\, Netherlands
CATEGORIES:Bardienst
END:VEVENT
BEGIN:VEVENT
DTSTART;TZID=Europe/Amsterdam:20260226T130000
DTEND;TZID=Europe/Amsterdam:20260226T130000
DTSTAMP:20260420T145623
CREATED:20250720T075736Z
LAST-MODIFIED:20260104T142132Z
UID:6620-1772110800-1772110800@www.seniorenbiljart-zuidlaren.nl
SUMMARY:Bart vd BerghBardienst
DESCRIPTION:
URL:https://www.seniorenbiljart-zuidlaren.nl/agenda/popke-de-wemebardienst-3/
LOCATION:De Bark\, Veenplasweg 3A\, Zuidlaren\, Drenthe\, 9471 RA\, Netherlands
CATEGORIES:Bardienst
END:VEVENT
BEGIN:VEVENT
DTSTART;TZID=Europe/Amsterdam:20260225T130000
DTEND;TZID=Europe/Amsterdam:20260225T130000
DTSTAMP:20260420T145623
CREATED:20250720T075736Z
LAST-MODIFIED:20250720T075736Z
UID:6619-1772024400-1772024400@www.seniorenbiljart-zuidlaren.nl
SUMMARY:Klaas WatermulderBardienst
DESCRIPTION:
URL:https://www.seniorenbiljart-zuidlaren.nl/agenda/klaas-watermulderbardienst-3/
LOCATION:De Bark\, Veenplasweg 3A\, Zuidlaren\, Drenthe\, 9471 RA\, Netherlands
CATEGORIES:Bardienst
END:VEVENT
BEGIN:VEVENT
DTSTART;TZID=Europe/Amsterdam:20260223T130000
DTEND;TZID=Europe/Amsterdam:20260223T130000
DTSTAMP:20260420T145623
CREATED:20250720T075736Z
LAST-MODIFIED:20250720T075736Z
UID:6618-1771851600-1771851600@www.seniorenbiljart-zuidlaren.nl
SUMMARY:Tjeerd OldenburgerBardienst
DESCRIPTION:
URL:https://www.seniorenbiljart-zuidlaren.nl/agenda/tjeerd-oldenburgerbardienst-26/
LOCATION:De Bark\, Veenplasweg 3A\, Zuidlaren\, Drenthe\, 9471 RA\, Netherlands
CATEGORIES:Bardienst
END:VEVENT
BEGIN:VEVENT
DTSTART;TZID=Europe/Amsterdam:20260219T130000
DTEND;TZID=Europe/Amsterdam:20260219T130000
DTSTAMP:20260420T145623
CREATED:20250720T075721Z
LAST-MODIFIED:20250720T075721Z
UID:6617-1771506000-1771506000@www.seniorenbiljart-zuidlaren.nl
SUMMARY:Wim VisserBardienst
DESCRIPTION:
URL:https://www.seniorenbiljart-zuidlaren.nl/agenda/wim-visserbardienst-3/
LOCATION:De Bark\, Veenplasweg 3A\, Zuidlaren\, Drenthe\, 9471 RA\, Netherlands
CATEGORIES:Bardienst
END:VEVENT
BEGIN:VEVENT
DTSTART;TZID=Europe/Amsterdam:20260218T130000
DTEND;TZID=Europe/Amsterdam:20260218T170000
DTSTAMP:20260420T145623
CREATED:20251211T103003Z
LAST-MODIFIED:20260104T142011Z
UID:6977-1771419600-1771434000@www.seniorenbiljart-zuidlaren.nl
SUMMARY:Chris Gils Bardienst
DESCRIPTION:
URL:https://www.seniorenbiljart-zuidlaren.nl/agenda/chris-gils-ipv-kees/
LOCATION:Drenthe
CATEGORIES:Bardienst
END:VEVENT
BEGIN:VEVENT
DTSTART;TZID=Europe/Amsterdam:20260218T130000
DTEND;TZID=Europe/Amsterdam:20260218T130000
DTSTAMP:20260420T145623
CREATED:20250720T075721Z
LAST-MODIFIED:20250720T075721Z
UID:6616-1771419600-1771419600@www.seniorenbiljart-zuidlaren.nl
SUMMARY:Kees VoorbijBardienst
DESCRIPTION:
URL:https://www.seniorenbiljart-zuidlaren.nl/agenda/kees-voorbijbardienst-3/
LOCATION:De Bark\, Veenplasweg 3A\, Zuidlaren\, Drenthe\, 9471 RA\, Netherlands
CATEGORIES:Bardienst
END:VEVENT
BEGIN:VEVENT
DTSTART;TZID=Europe/Amsterdam:20260216T130000
DTEND;TZID=Europe/Amsterdam:20260216T130000
DTSTAMP:20260420T145623
CREATED:20250720T075721Z
LAST-MODIFIED:20250720T075721Z
UID:6615-1771246800-1771246800@www.seniorenbiljart-zuidlaren.nl
SUMMARY:Tjeerd OldenburgerBardienst
DESCRIPTION:
URL:https://www.seniorenbiljart-zuidlaren.nl/agenda/tjeerd-oldenburgerbardienst-25/
LOCATION:De Bark\, Veenplasweg 3A\, Zuidlaren\, Drenthe\, 9471 RA\, Netherlands
CATEGORIES:Bardienst
END:VEVENT
BEGIN:VEVENT
DTSTART;TZID=Europe/Amsterdam:20260212T130000
DTEND;TZID=Europe/Amsterdam:20260212T130000
DTSTAMP:20260420T145623
CREATED:20250720T075721Z
LAST-MODIFIED:20260104T141805Z
UID:6614-1770901200-1770901200@www.seniorenbiljart-zuidlaren.nl
SUMMARY:Annemiek VisserBardienst
DESCRIPTION:
URL:https://www.seniorenbiljart-zuidlaren.nl/agenda/gerrit-steenstrabardienst-3/
LOCATION:De Bark\, Veenplasweg 3A\, Zuidlaren\, Drenthe\, 9471 RA\, Netherlands
CATEGORIES:Bardienst
END:VEVENT
BEGIN:VEVENT
DTSTART;TZID=Europe/Amsterdam:20260211T130000
DTEND;TZID=Europe/Amsterdam:20260211T130000
DTSTAMP:20260420T145623
CREATED:20250720T075721Z
LAST-MODIFIED:20250720T075721Z
UID:6613-1770814800-1770814800@www.seniorenbiljart-zuidlaren.nl
SUMMARY:Albert RademakerBardienst
DESCRIPTION:
URL:https://www.seniorenbiljart-zuidlaren.nl/agenda/albert-rademakerbardienst-3/
LOCATION:De Bark\, Veenplasweg 3A\, Zuidlaren\, Drenthe\, 9471 RA\, Netherlands
CATEGORIES:Bardienst
END:VEVENT
BEGIN:VEVENT
DTSTART;TZID=Europe/Amsterdam:20260209T130000
DTEND;TZID=Europe/Amsterdam:20260209T130000
DTSTAMP:20260420T145623
CREATED:20250720T075706Z
LAST-MODIFIED:20250720T075706Z
UID:6612-1770642000-1770642000@www.seniorenbiljart-zuidlaren.nl
SUMMARY:Tjeerd OldenburgerBardienst
DESCRIPTION:
URL:https://www.seniorenbiljart-zuidlaren.nl/agenda/tjeerd-oldenburgerbardienst-24/
LOCATION:De Bark\, Veenplasweg 3A\, Zuidlaren\, Drenthe\, 9471 RA\, Netherlands
CATEGORIES:Bardienst
END:VEVENT
BEGIN:VEVENT
DTSTART;TZID=Europe/Amsterdam:20260205T130000
DTEND;TZID=Europe/Amsterdam:20260205T130000
DTSTAMP:20260420T145623
CREATED:20250720T075706Z
LAST-MODIFIED:20250720T075706Z
UID:6611-1770296400-1770296400@www.seniorenbiljart-zuidlaren.nl
SUMMARY:Bert ReitzemaBardienst
DESCRIPTION:
URL:https://www.seniorenbiljart-zuidlaren.nl/agenda/bert-reitzemabardienst-3/
LOCATION:De Bark\, Veenplasweg 3A\, Zuidlaren\, Drenthe\, 9471 RA\, Netherlands
CATEGORIES:Bardienst
END:VEVENT
BEGIN:VEVENT
DTSTART;TZID=Europe/Amsterdam:20260204T130000
DTEND;TZID=Europe/Amsterdam:20260204T130000
DTSTAMP:20260420T145623
CREATED:20250720T075706Z
LAST-MODIFIED:20250720T075706Z
UID:6610-1770210000-1770210000@www.seniorenbiljart-zuidlaren.nl
SUMMARY:Joop BeekmanBardienst
DESCRIPTION:
URL:https://www.seniorenbiljart-zuidlaren.nl/agenda/joop-beekmanbardienst-3/
LOCATION:De Bark\, Veenplasweg 3A\, Zuidlaren\, Drenthe\, 9471 RA\, Netherlands
CATEGORIES:Bardienst
END:VEVENT
BEGIN:VEVENT
DTSTART;TZID=Europe/Amsterdam:20260202T130000
DTEND;TZID=Europe/Amsterdam:20260202T130000
DTSTAMP:20260420T145623
CREATED:20250720T075706Z
LAST-MODIFIED:20250720T075706Z
UID:6609-1770037200-1770037200@www.seniorenbiljart-zuidlaren.nl
SUMMARY:Tjeerd OldenburgerBardienst
DESCRIPTION:
URL:https://www.seniorenbiljart-zuidlaren.nl/agenda/tjeerd-oldenburgerbardienst-23/
LOCATION:De Bark\, Veenplasweg 3A\, Zuidlaren\, Drenthe\, 9471 RA\, Netherlands
CATEGORIES:Bardienst
END:VEVENT
BEGIN:VEVENT
DTSTART;TZID=Europe/Amsterdam:20260129T130000
DTEND;TZID=Europe/Amsterdam:20260129T130000
DTSTAMP:20260420T145623
CREATED:20250720T075706Z
LAST-MODIFIED:20250720T075706Z
UID:6608-1769691600-1769691600@www.seniorenbiljart-zuidlaren.nl
SUMMARY:Ger OlthofBardienst
DESCRIPTION:
URL:https://www.seniorenbiljart-zuidlaren.nl/agenda/ger-olthofbardienst-3/
LOCATION:De Bark\, Veenplasweg 3A\, Zuidlaren\, Drenthe\, 9471 RA\, Netherlands
CATEGORIES:Bardienst
END:VEVENT
BEGIN:VEVENT
DTSTART;TZID=Europe/Amsterdam:20260128T130000
DTEND;TZID=Europe/Amsterdam:20260128T130000
DTSTAMP:20260420T145623
CREATED:20250720T075651Z
LAST-MODIFIED:20250720T075651Z
UID:6607-1769605200-1769605200@www.seniorenbiljart-zuidlaren.nl
SUMMARY:Henk ClermontsBardienst
DESCRIPTION:
URL:https://www.seniorenbiljart-zuidlaren.nl/agenda/henk-clermontsbardienst-3/
LOCATION:De Bark\, Veenplasweg 3A\, Zuidlaren\, Drenthe\, 9471 RA\, Netherlands
CATEGORIES:Bardienst
END:VEVENT
BEGIN:VEVENT
DTSTART;TZID=Europe/Amsterdam:20260126T130000
DTEND;TZID=Europe/Amsterdam:20260126T130000
DTSTAMP:20260420T145623
CREATED:20250720T075651Z
LAST-MODIFIED:20250720T075651Z
UID:6606-1769432400-1769432400@www.seniorenbiljart-zuidlaren.nl
SUMMARY:Tjeerd OldenburgerBardienst
DESCRIPTION:
URL:https://www.seniorenbiljart-zuidlaren.nl/agenda/tjeerd-oldenburgerbardienst-22/
LOCATION:De Bark\, Veenplasweg 3A\, Zuidlaren\, Drenthe\, 9471 RA\, Netherlands
CATEGORIES:Bardienst
END:VEVENT
END:VCALENDAR