BEGIN:VCALENDAR
VERSION:2.0
PRODID:-//SBV Zuidlaren - ECPv6.15.17.1//NONSGML v1.0//EN
CALSCALE:GREGORIAN
METHOD:PUBLISH
X-WR-CALNAME:SBV Zuidlaren
X-ORIGINAL-URL:https://www.seniorenbiljart-zuidlaren.nl
X-WR-CALDESC:Evenementen voor SBV Zuidlaren
REFRESH-INTERVAL;VALUE=DURATION:PT1H
X-Robots-Tag:noindex
X-PUBLISHED-TTL:PT1H
BEGIN:VTIMEZONE
TZID:Europe/Amsterdam
BEGIN:DAYLIGHT
TZOFFSETFROM:+0100
TZOFFSETTO:+0200
TZNAME:CEST
DTSTART:20250330T010000
END:DAYLIGHT
BEGIN:STANDARD
TZOFFSETFROM:+0200
TZOFFSETTO:+0100
TZNAME:CET
DTSTART:20251026T010000
END:STANDARD
BEGIN:DAYLIGHT
TZOFFSETFROM:+0100
TZOFFSETTO:+0200
TZNAME:CEST
DTSTART:20260329T010000
END:DAYLIGHT
BEGIN:STANDARD
TZOFFSETFROM:+0200
TZOFFSETTO:+0100
TZNAME:CET
DTSTART:20261025T010000
END:STANDARD
BEGIN:DAYLIGHT
TZOFFSETFROM:+0100
TZOFFSETTO:+0200
TZNAME:CEST
DTSTART:20270328T010000
END:DAYLIGHT
BEGIN:STANDARD
TZOFFSETFROM:+0200
TZOFFSETTO:+0100
TZNAME:CET
DTSTART:20271031T010000
END:STANDARD
END:VTIMEZONE
BEGIN:VEVENT
DTSTART;TZID=Europe/Amsterdam:20260504T130000
DTEND;TZID=Europe/Amsterdam:20260504T130000
DTSTAMP:20260420T141454
CREATED:20250720T075906Z
LAST-MODIFIED:20250720T075906Z
UID:6648-1777899600-1777899600@www.seniorenbiljart-zuidlaren.nl
SUMMARY:Tjeerd OldenburgerBardienst
DESCRIPTION:
URL:https://www.seniorenbiljart-zuidlaren.nl/agenda/tjeerd-oldenburgerbardienst-34/
LOCATION:De Bark\, Veenplasweg 3A\, Zuidlaren\, Drenthe\, 9471 RA\, Netherlands
CATEGORIES:Bardienst
END:VEVENT
BEGIN:VEVENT
DTSTART;TZID=Europe/Amsterdam:20260506T130000
DTEND;TZID=Europe/Amsterdam:20260506T130000
DTSTAMP:20260420T141454
CREATED:20250720T075906Z
LAST-MODIFIED:20250720T075906Z
UID:6649-1778072400-1778072400@www.seniorenbiljart-zuidlaren.nl
SUMMARY:Joop van der MolenBardienst
DESCRIPTION:
URL:https://www.seniorenbiljart-zuidlaren.nl/agenda/joop-van-der-molenbardienst-4/
LOCATION:De Bark\, Veenplasweg 3A\, Zuidlaren\, Drenthe\, 9471 RA\, Netherlands
CATEGORIES:Bardienst
END:VEVENT
BEGIN:VEVENT
DTSTART;TZID=Europe/Amsterdam:20260507T130000
DTEND;TZID=Europe/Amsterdam:20260507T130000
DTSTAMP:20260420T141454
CREATED:20250720T075906Z
LAST-MODIFIED:20250720T075906Z
UID:6650-1778158800-1778158800@www.seniorenbiljart-zuidlaren.nl
SUMMARY:Willem van LeeuwenBardienst
DESCRIPTION:
URL:https://www.seniorenbiljart-zuidlaren.nl/agenda/willem-van-leeuwenbardienst-4/
LOCATION:De Bark\, Veenplasweg 3A\, Zuidlaren\, Drenthe\, 9471 RA\, Netherlands
CATEGORIES:Bardienst
END:VEVENT
BEGIN:VEVENT
DTSTART;TZID=Europe/Amsterdam:20260511T130000
DTEND;TZID=Europe/Amsterdam:20260511T130000
DTSTAMP:20260420T141454
CREATED:20250720T075906Z
LAST-MODIFIED:20250720T075906Z
UID:6651-1778504400-1778504400@www.seniorenbiljart-zuidlaren.nl
SUMMARY:Tjeerd OldenburgerBardienst
DESCRIPTION:
URL:https://www.seniorenbiljart-zuidlaren.nl/agenda/tjeerd-oldenburgerbardienst-35/
LOCATION:De Bark\, Veenplasweg 3A\, Zuidlaren\, Drenthe\, 9471 RA\, Netherlands
CATEGORIES:Bardienst
END:VEVENT
BEGIN:VEVENT
DTSTART;TZID=Europe/Amsterdam:20260513T130000
DTEND;TZID=Europe/Amsterdam:20260513T130000
DTSTAMP:20260420T141454
CREATED:20250720T075906Z
LAST-MODIFIED:20250720T075906Z
UID:6652-1778677200-1778677200@www.seniorenbiljart-zuidlaren.nl
SUMMARY:Chris GilsBardienst
DESCRIPTION:
URL:https://www.seniorenbiljart-zuidlaren.nl/agenda/chris-gilsbardienst-4/
LOCATION:De Bark\, Veenplasweg 3A\, Zuidlaren\, Drenthe\, 9471 RA\, Netherlands
CATEGORIES:Bardienst
END:VEVENT
BEGIN:VEVENT
DTSTART;TZID=Europe/Amsterdam:20260514T130000
DTEND;TZID=Europe/Amsterdam:20260514T130000
DTSTAMP:20260420T141454
CREATED:20250720T075921Z
LAST-MODIFIED:20250720T075921Z
UID:6653-1778763600-1778763600@www.seniorenbiljart-zuidlaren.nl
SUMMARY:Hemelvaartsdag
DESCRIPTION:
URL:https://www.seniorenbiljart-zuidlaren.nl/agenda/hemelvaartsdag-3/
LOCATION:De Bark\, Veenplasweg 3A\, Zuidlaren\, Drenthe\, 9471 RA\, Netherlands
CATEGORIES:Bardienst
END:VEVENT
BEGIN:VEVENT
DTSTART;TZID=Europe/Amsterdam:20260518T130000
DTEND;TZID=Europe/Amsterdam:20260518T130000
DTSTAMP:20260420T141454
CREATED:20250720T075921Z
LAST-MODIFIED:20250720T075921Z
UID:6654-1779109200-1779109200@www.seniorenbiljart-zuidlaren.nl
SUMMARY:Tjeerd OldenburgerBardienst
DESCRIPTION:
URL:https://www.seniorenbiljart-zuidlaren.nl/agenda/tjeerd-oldenburgerbardienst-36/
LOCATION:De Bark\, Veenplasweg 3A\, Zuidlaren\, Drenthe\, 9471 RA\, Netherlands
CATEGORIES:Bardienst
END:VEVENT
BEGIN:VEVENT
DTSTART;TZID=Europe/Amsterdam:20260520T130000
DTEND;TZID=Europe/Amsterdam:20260520T130000
DTSTAMP:20260420T141454
CREATED:20250720T075921Z
LAST-MODIFIED:20250720T075921Z
UID:6655-1779282000-1779282000@www.seniorenbiljart-zuidlaren.nl
SUMMARY:Reinder de BieBardienst
DESCRIPTION:
URL:https://www.seniorenbiljart-zuidlaren.nl/agenda/reinder-de-biebardienst-5/
LOCATION:De Bark\, Veenplasweg 3A\, Zuidlaren\, Drenthe\, 9471 RA\, Netherlands
CATEGORIES:Bardienst
END:VEVENT
BEGIN:VEVENT
DTSTART;TZID=Europe/Amsterdam:20260521T130000
DTEND;TZID=Europe/Amsterdam:20260521T130000
DTSTAMP:20260420T141454
CREATED:20250720T075921Z
LAST-MODIFIED:20250720T075921Z
UID:6656-1779368400-1779368400@www.seniorenbiljart-zuidlaren.nl
SUMMARY:Jur HulseboschBardienst
DESCRIPTION:
URL:https://www.seniorenbiljart-zuidlaren.nl/agenda/jur-hulseboschbardienst-4/
LOCATION:De Bark\, Veenplasweg 3A\, Zuidlaren\, Drenthe\, 9471 RA\, Netherlands
CATEGORIES:Bardienst
END:VEVENT
BEGIN:VEVENT
DTSTART;TZID=Europe/Amsterdam:20260525T130000
DTEND;TZID=Europe/Amsterdam:20260525T130000
DTSTAMP:20260420T141454
CREATED:20250720T075921Z
LAST-MODIFIED:20250720T075921Z
UID:6657-1779714000-1779714000@www.seniorenbiljart-zuidlaren.nl
SUMMARY:2de Pinksterdag
DESCRIPTION:
URL:https://www.seniorenbiljart-zuidlaren.nl/agenda/2de-pinksterdag/
LOCATION:De Bark\, Veenplasweg 3A\, Zuidlaren\, Drenthe\, 9471 RA\, Netherlands
CATEGORIES:Bardienst
END:VEVENT
BEGIN:VEVENT
DTSTART;TZID=Europe/Amsterdam:20260527T130000
DTEND;TZID=Europe/Amsterdam:20260527T130000
DTSTAMP:20260420T141454
CREATED:20250720T075936Z
LAST-MODIFIED:20250720T075936Z
UID:6658-1779886800-1779886800@www.seniorenbiljart-zuidlaren.nl
SUMMARY:Annie HadderinghBardienst
DESCRIPTION:
URL:https://www.seniorenbiljart-zuidlaren.nl/agenda/annie-hadderinghbardienst-5/
LOCATION:De Bark\, Veenplasweg 3A\, Zuidlaren\, Drenthe\, 9471 RA\, Netherlands
CATEGORIES:Bardienst
END:VEVENT
BEGIN:VEVENT
DTSTART;TZID=Europe/Amsterdam:20260528T130000
DTEND;TZID=Europe/Amsterdam:20260528T130000
DTSTAMP:20260420T141454
CREATED:20250720T075936Z
LAST-MODIFIED:20250720T075936Z
UID:6659-1779973200-1779973200@www.seniorenbiljart-zuidlaren.nl
SUMMARY:Ed WijnenBardienst
DESCRIPTION:
URL:https://www.seniorenbiljart-zuidlaren.nl/agenda/ed-wijnenbardienst-4/
LOCATION:De Bark\, Veenplasweg 3A\, Zuidlaren\, Drenthe\, 9471 RA\, Netherlands
CATEGORIES:Bardienst
END:VEVENT
END:VCALENDAR