BEGIN:VCALENDAR
VERSION:2.0
PRODID:-//SBV Zuidlaren - ECPv6.15.17.1//NONSGML v1.0//EN
CALSCALE:GREGORIAN
METHOD:PUBLISH
X-WR-CALNAME:SBV Zuidlaren
X-ORIGINAL-URL:https://www.seniorenbiljart-zuidlaren.nl
X-WR-CALDESC:Evenementen voor SBV Zuidlaren
REFRESH-INTERVAL;VALUE=DURATION:PT1H
X-Robots-Tag:noindex
X-PUBLISHED-TTL:PT1H
BEGIN:VTIMEZONE
TZID:Europe/Amsterdam
BEGIN:DAYLIGHT
TZOFFSETFROM:+0100
TZOFFSETTO:+0200
TZNAME:CEST
DTSTART:20250330T010000
END:DAYLIGHT
BEGIN:STANDARD
TZOFFSETFROM:+0200
TZOFFSETTO:+0100
TZNAME:CET
DTSTART:20251026T010000
END:STANDARD
BEGIN:DAYLIGHT
TZOFFSETFROM:+0100
TZOFFSETTO:+0200
TZNAME:CEST
DTSTART:20260329T010000
END:DAYLIGHT
BEGIN:STANDARD
TZOFFSETFROM:+0200
TZOFFSETTO:+0100
TZNAME:CET
DTSTART:20261025T010000
END:STANDARD
BEGIN:DAYLIGHT
TZOFFSETFROM:+0100
TZOFFSETTO:+0200
TZNAME:CEST
DTSTART:20270328T010000
END:DAYLIGHT
BEGIN:STANDARD
TZOFFSETFROM:+0200
TZOFFSETTO:+0100
TZNAME:CET
DTSTART:20271031T010000
END:STANDARD
END:VTIMEZONE
BEGIN:VEVENT
DTSTART;TZID=Europe/Amsterdam:20260428T130000
DTEND;TZID=Europe/Amsterdam:20260428T170000
DTSTAMP:20260420T115508
CREATED:20250312T092552Z
LAST-MODIFIED:20251017T101054Z
UID:6103-1777381200-1777395600@www.seniorenbiljart-zuidlaren.nl
SUMMARY:bandstoten
DESCRIPTION:
URL:https://www.seniorenbiljart-zuidlaren.nl/agenda/bandstoten-12/
CATEGORIES:Bandstoten
END:VEVENT
END:VCALENDAR