BEGIN:VCALENDAR
VERSION:2.0
PRODID:-//SBV Zuidlaren - ECPv6.15.17.1//NONSGML v1.0//EN
CALSCALE:GREGORIAN
METHOD:PUBLISH
X-WR-CALNAME:SBV Zuidlaren
X-ORIGINAL-URL:https://www.seniorenbiljart-zuidlaren.nl
X-WR-CALDESC:Evenementen voor SBV Zuidlaren
REFRESH-INTERVAL;VALUE=DURATION:PT1H
X-Robots-Tag:noindex
X-PUBLISHED-TTL:PT1H
BEGIN:VTIMEZONE
TZID:Europe/Amsterdam
BEGIN:DAYLIGHT
TZOFFSETFROM:+0100
TZOFFSETTO:+0200
TZNAME:CEST
DTSTART:20250330T010000
END:DAYLIGHT
BEGIN:STANDARD
TZOFFSETFROM:+0200
TZOFFSETTO:+0100
TZNAME:CET
DTSTART:20251026T010000
END:STANDARD
BEGIN:DAYLIGHT
TZOFFSETFROM:+0100
TZOFFSETTO:+0200
TZNAME:CEST
DTSTART:20260329T010000
END:DAYLIGHT
BEGIN:STANDARD
TZOFFSETFROM:+0200
TZOFFSETTO:+0100
TZNAME:CET
DTSTART:20261025T010000
END:STANDARD
BEGIN:DAYLIGHT
TZOFFSETFROM:+0100
TZOFFSETTO:+0200
TZNAME:CEST
DTSTART:20270328T010000
END:DAYLIGHT
BEGIN:STANDARD
TZOFFSETFROM:+0200
TZOFFSETTO:+0100
TZNAME:CET
DTSTART:20271031T010000
END:STANDARD
END:VTIMEZONE
BEGIN:VEVENT
DTSTART;TZID=Europe/Amsterdam:20260420T130000
DTEND;TZID=Europe/Amsterdam:20260420T130000
DTSTAMP:20260420T114607
CREATED:20250720T075836Z
LAST-MODIFIED:20250720T075836Z
UID:6642-1776690000-1776690000@www.seniorenbiljart-zuidlaren.nl
SUMMARY:Tjeerd OldenburgerBardienst
DESCRIPTION:
URL:https://www.seniorenbiljart-zuidlaren.nl/agenda/tjeerd-oldenburgerbardienst-33/
LOCATION:De Bark\, Veenplasweg 3A\, Zuidlaren\, Drenthe\, 9471 RA\, Netherlands
CATEGORIES:Bardienst
END:VEVENT
END:VCALENDAR